Package: randPack Version: 1.55.0 Command: /Library/Frameworks/R.framework/Resources/bin/R CMD INSTALL randPack StartedAt: 2025-10-02 15:15:57 -0400 (Thu, 02 Oct 2025) EndedAt: 2025-10-02 15:16:12 -0400 (Thu, 02 Oct 2025) EllapsedTime: 15.5 seconds RetCode: 0 Status: OK