Package: randPack Version: 1.55.0 Command: rm -rf randPack.buildbin-libdir && mkdir randPack.buildbin-libdir && /Users/biocbuild/BBS/utils/build-universal.sh randPack_1.55.0.tar.gz /Library/Frameworks/R.framework/Resources/bin/R randPack.buildbin-libdir StartedAt: 2025-10-03 02:15:21 -0400 (Fri, 03 Oct 2025) EndedAt: 2025-10-03 02:15:31 -0400 (Fri, 03 Oct 2025) EllapsedTime: 9.3 seconds RetCode: 0 Status: OK PackageFile: randPack_1.55.0.tgz PackageFileSize: 461.2 KiB