Package: randPack Version: 1.55.0 Command: /Library/Frameworks/R.framework/Resources/bin/R CMD INSTALL randPack StartedAt: 2025-10-03 15:31:07 -0400 (Fri, 03 Oct 2025) EndedAt: 2025-10-03 15:31:10 -0400 (Fri, 03 Oct 2025) EllapsedTime: 2.1 seconds RetCode: 0 Status: OK