Package: ramwas Version: 1.34.0 Command: /home/biocbuild/R/R/bin/R CMD INSTALL ramwas StartedAt: 2025-11-20 22:24:56 -0000 (Thu, 20 Nov 2025) EndedAt: 2025-11-20 22:25:44 -0000 (Thu, 20 Nov 2025) EllapsedTime: 48.0 seconds RetCode: 0 Status: OK