Package: ramwas Version: 1.34.0 Command: /home/biocbuild/R/R/bin/R CMD build --keep-empty-dirs --no-resave-data ramwas StartedAt: 2025-11-21 05:02:41 -0000 (Fri, 21 Nov 2025) EndedAt: 2025-11-21 05:07:37 -0000 (Fri, 21 Nov 2025) EllapsedTime: 296.1 seconds RetCode: 0 Status: OK PackageFile: ramwas_1.34.0.tar.gz PackageFileSize: 2.505 MiB