Package: ramr Version: 1.18.0 Command: /Library/Frameworks/R.framework/Resources/bin/R CMD INSTALL ramr StartedAt: 2025-11-17 17:16:39 -0500 (Mon, 17 Nov 2025) EndedAt: 2025-11-17 17:18:22 -0500 (Mon, 17 Nov 2025) EllapsedTime: 102.6 seconds RetCode: 0 Status: OK