Package: ramr Version: 1.18.0 Command: /Library/Frameworks/R.framework/Resources/bin/R CMD build --keep-empty-dirs --no-resave-data ramr StartedAt: 2025-11-18 01:23:28 -0500 (Tue, 18 Nov 2025) EndedAt: 2025-11-18 01:28:43 -0500 (Tue, 18 Nov 2025) EllapsedTime: 315.5 seconds RetCode: 0 Status: OK PackageFile: ramr_1.18.0.tar.gz PackageFileSize: 2.844 MiB