Package: ramr Version: 1.18.0 Command: rm -rf ramr.buildbin-libdir && mkdir ramr.buildbin-libdir && /Users/biocbuild/BBS/utils/build-universal.sh ramr_1.18.0.tar.gz /Library/Frameworks/R.framework/Resources/bin/R ramr.buildbin-libdir StartedAt: 2025-11-18 16:11:00 -0500 (Tue, 18 Nov 2025) EndedAt: 2025-11-18 16:11:23 -0500 (Tue, 18 Nov 2025) EllapsedTime: 22.3 seconds RetCode: 0 Status: OK PackageFile: ramr_1.18.0.tgz PackageFileSize: 2.849 MiB