Package: rain Version: 1.43.0 Command: rm -rf rain.buildbin-libdir && mkdir rain.buildbin-libdir && /Users/biocbuild/BBS/utils/build-universal.sh rain_1.43.0.tar.gz /Library/Frameworks/R.framework/Resources/bin/R rain.buildbin-libdir StartedAt: 2025-10-07 02:28:07 -0400 (Tue, 07 Oct 2025) EndedAt: 2025-10-07 02:28:21 -0400 (Tue, 07 Oct 2025) EllapsedTime: 13.9 seconds RetCode: 0 Status: OK PackageFile: rain_1.43.0.tgz PackageFileSize: 632.1 KiB