Package: rWikiPathways Version: 1.29.2 Command: /home/biocbuild/R/R/bin/R CMD INSTALL rWikiPathways StartedAt: 2025-10-16 21:20:04 -0000 (Thu, 16 Oct 2025) EndedAt: 2025-10-16 21:20:40 -0000 (Thu, 16 Oct 2025) EllapsedTime: 36.0 seconds RetCode: 0 Status: OK