Package: rWikiPathways Version: 1.29.2 Command: /home/biocbuild/R/R/bin/R CMD build --keep-empty-dirs --no-resave-data rWikiPathways StartedAt: 2025-10-17 04:12:50 -0000 (Fri, 17 Oct 2025) EndedAt: 2025-10-17 04:13:07 -0000 (Fri, 17 Oct 2025) EllapsedTime: 17.0 seconds RetCode: 0 Status: OK PackageFile: rWikiPathways_1.29.2.tar.gz PackageFileSize: 10.64 MiB