Package: rWikiPathways Version: 1.29.0 Command: chmod a+r rWikiPathways -R && F:\biocbuild\bbs-3.22-bioc\R\bin\R.exe CMD build --keep-empty-dirs --no-resave-data rWikiPathways StartedAt: 2025-08-14 22:57:04 -0400 (Thu, 14 Aug 2025) EndedAt: 2025-08-14 22:58:38 -0400 (Thu, 14 Aug 2025) EllapsedTime: 93.7 seconds RetCode: 0 Status: OK PackageFile: rWikiPathways_1.29.0.tar.gz PackageFileSize: 10.38 MiB