Package: rWikiPathways Version: 1.29.0 Command: rm -rf rWikiPathways.buildbin-libdir && mkdir rWikiPathways.buildbin-libdir && F:\biocbuild\bbs-3.22-bioc\R\bin\R.exe CMD INSTALL --build --library=rWikiPathways.buildbin-libdir rWikiPathways_1.29.0.tar.gz StartedAt: 2025-08-15 11:12:37 -0400 (Fri, 15 Aug 2025) EndedAt: 2025-08-15 11:13:56 -0400 (Fri, 15 Aug 2025) EllapsedTime: 78.9 seconds RetCode: 0 Status: OK PackageFile: rWikiPathways_1.29.0.zip PackageFileSize: 2.869 MiB