Package: rWikiPathways Version: 1.29.2 Command: /Library/Frameworks/R.framework/Resources/bin/R CMD check --install=check:rWikiPathways.install-out.txt --library=/Library/Frameworks/R.framework/Resources/library --no-vignettes --timings rWikiPathways_1.29.2.tar.gz StartedAt: 2025-10-20 01:21:12 -0400 (Mon, 20 Oct 2025) EndedAt: 2025-10-20 01:23:36 -0400 (Mon, 20 Oct 2025) EllapsedTime: 144.0 seconds RetCode: 0 Status: OK CheckDir: rWikiPathways.Rcheck Warnings: 0