Package: rWikiPathways Version: 1.29.2 Command: /Library/Frameworks/R.framework/Resources/bin/R CMD build --keep-empty-dirs --no-resave-data rWikiPathways StartedAt: 2025-10-19 19:11:11 -0400 (Sun, 19 Oct 2025) EndedAt: 2025-10-19 19:11:50 -0400 (Sun, 19 Oct 2025) EllapsedTime: 39.0 seconds RetCode: 0 Status: OK PackageFile: rWikiPathways_1.29.2.tar.gz PackageFileSize: 10.38 MiB