Package: rWikiPathways Version: 1.29.2 Command: rm -rf rWikiPathways.buildbin-libdir && mkdir rWikiPathways.buildbin-libdir && /Users/biocbuild/BBS/utils/build-universal.sh rWikiPathways_1.29.2.tar.gz /Library/Frameworks/R.framework/Resources/bin/R rWikiPathways.buildbin-libdir StartedAt: 2025-10-20 03:30:46 -0400 (Mon, 20 Oct 2025) EndedAt: 2025-10-20 03:31:01 -0400 (Mon, 20 Oct 2025) EllapsedTime: 15.0 seconds RetCode: 0 Status: OK PackageFile: rWikiPathways_1.29.2.tgz PackageFileSize: 2.869 MiB