Package: rWikiPathways Version: 1.29.2 Maintainer: Egon Willighagen MaintainerEmail: egon.willighagen at gmail.com git_url: https://git.bioconductor.org/packages/rWikiPathways git_branch: devel git_last_commit: 8d702e3 git_last_commit_date: 2025-10-14 14:15:28 -0400 (Tue, 14 Oct 2025)