Package: rTRMui Version: 1.47.0 Command: /home/biocbuild/R/R/bin/R CMD INSTALL rTRMui StartedAt: 2025-10-16 22:27:26 -0000 (Thu, 16 Oct 2025) EndedAt: 2025-10-16 22:28:34 -0000 (Thu, 16 Oct 2025) EllapsedTime: 68.5 seconds RetCode: 0 Status: OK