Package: rTRMui Version: 1.47.0 Command: /home/biocbuild/R/R/bin/R CMD build --keep-empty-dirs --no-resave-data rTRMui StartedAt: 2025-10-17 04:11:37 -0000 (Fri, 17 Oct 2025) EndedAt: 2025-10-17 04:13:04 -0000 (Fri, 17 Oct 2025) EllapsedTime: 87.0 seconds RetCode: 0 Status: OK PackageFile: rTRMui_1.47.0.tar.gz PackageFileSize: 1.106 MiB