Package: rTRMui Version: 1.47.0 Command: rm -rf rTRMui.buildbin-libdir && mkdir rTRMui.buildbin-libdir && F:\biocbuild\bbs-3.22-bioc\R\bin\R.exe CMD INSTALL --build --library=rTRMui.buildbin-libdir rTRMui_1.47.0.tar.gz StartedAt: 2025-08-15 11:12:05 -0400 (Fri, 15 Aug 2025) EndedAt: 2025-08-15 11:13:00 -0400 (Fri, 15 Aug 2025) EllapsedTime: 55.0 seconds RetCode: 0 Status: OK PackageFile: rTRMui_1.47.0.zip PackageFileSize: 742.8 KiB