Package: rTRM Version: 1.47.0 Command: /home/biocbuild/R/R/bin/R CMD build --keep-empty-dirs --no-resave-data rTRM StartedAt: 2025-10-21 02:42:34 -0000 (Tue, 21 Oct 2025) EndedAt: 2025-10-21 02:43:38 -0000 (Tue, 21 Oct 2025) EllapsedTime: 64.0 seconds RetCode: 0 Status: OK PackageFile: rTRM_1.47.0.tar.gz PackageFileSize: 3.276 MiB