Package: rTRM Version: 1.47.0 Command: F:\biocbuild\bbs-3.22-bioc\R\bin\R.exe CMD check --no-multiarch --install=check:rTRM.install-out.txt --library=F:\biocbuild\bbs-3.22-bioc\R\library --no-vignettes --timings rTRM_1.47.0.tar.gz StartedAt: 2025-08-15 07:20:49 -0400 (Fri, 15 Aug 2025) EndedAt: 2025-08-15 07:22:59 -0400 (Fri, 15 Aug 2025) EllapsedTime: 130.0 seconds RetCode: 0 Status: OK CheckDir: rTRM.Rcheck Warnings: 0