Package: rTRM Version: 1.47.0 Command: /home/biocbuild/bbs-3.22-bioc/R/bin/R CMD build --keep-empty-dirs --no-resave-data --md5 rTRM StartedAt: 2025-10-20 19:41:14 -0400 (Mon, 20 Oct 2025) EndedAt: 2025-10-20 19:42:03 -0400 (Mon, 20 Oct 2025) EllapsedTime: 49.0 seconds RetCode: 0 Status: OK PackageFile: rTRM_1.47.0.tar.gz PackageFileSize: 3.508 MiB