Package: rTRM Version: 1.47.0 Command: /Library/Frameworks/R.framework/Resources/bin/R CMD build --keep-empty-dirs --no-resave-data rTRM StartedAt: 2025-10-21 19:20:24 -0400 (Tue, 21 Oct 2025) EndedAt: 2025-10-21 19:21:24 -0400 (Tue, 21 Oct 2025) EllapsedTime: 60.5 seconds RetCode: 0 Status: OK PackageFile: rTRM_1.47.0.tar.gz PackageFileSize: 3.548 MiB