Package: rScudo Version: 1.25.0 Command: /home/biocbuild/R/R/bin/R CMD INSTALL rScudo StartedAt: 2025-10-20 20:30:58 -0000 (Mon, 20 Oct 2025) EndedAt: 2025-10-20 20:31:02 -0000 (Mon, 20 Oct 2025) EllapsedTime: 3.5 seconds RetCode: 0 Status: OK