Package: rScudo Version: 1.25.0 Command: F:\biocbuild\bbs-3.22-bioc\R\bin\R.exe CMD check --no-multiarch --install=check:rScudo.install-out.txt --library=F:\biocbuild\bbs-3.22-bioc\R\library --no-vignettes --timings rScudo_1.25.0.tar.gz StartedAt: 2025-08-15 07:19:06 -0400 (Fri, 15 Aug 2025) EndedAt: 2025-08-15 07:20:07 -0400 (Fri, 15 Aug 2025) EllapsedTime: 61.6 seconds RetCode: 0 Status: OK CheckDir: rScudo.Rcheck Warnings: 0