Package: rScudo Version: 1.25.0 Command: /home/biocbuild/bbs-3.22-bioc/R/bin/R CMD check --install=check:rScudo.install-out.txt --library=/home/biocbuild/bbs-3.22-bioc/R/site-library --timings rScudo_1.25.0.tar.gz StartedAt: 2025-10-24 03:23:02 -0400 (Fri, 24 Oct 2025) EndedAt: 2025-10-24 03:25:10 -0400 (Fri, 24 Oct 2025) EllapsedTime: 128.2 seconds RetCode: 0 Status: OK CheckDir: rScudo.Rcheck Warnings: 0