Package: rScudo Version: 1.25.0 Command: rm -rf rScudo.buildbin-libdir && mkdir rScudo.buildbin-libdir && /Users/biocbuild/BBS/utils/build-universal.sh rScudo_1.25.0.tar.gz /Library/Frameworks/R.framework/Resources/bin/R rScudo.buildbin-libdir StartedAt: 2025-10-23 23:24:45 -0400 (Thu, 23 Oct 2025) EndedAt: 2025-10-23 23:24:47 -0400 (Thu, 23 Oct 2025) EllapsedTime: 2.1 seconds RetCode: 0 Status: OK PackageFile: rScudo_1.25.0.tgz PackageFileSize: 1.111 MiB