Package: rSWeeP Version: 1.21.0 Command: /home/biocbuild/R/R/bin/R CMD INSTALL rSWeeP StartedAt: 2025-10-20 20:27:50 -0000 (Mon, 20 Oct 2025) EndedAt: 2025-10-20 20:28:03 -0000 (Mon, 20 Oct 2025) EllapsedTime: 12.8 seconds RetCode: 0 Status: OK