Package: rRDP Version: 1.43.0 Command: rm -rf rRDP.buildbin-libdir && mkdir rRDP.buildbin-libdir && F:\biocbuild\bbs-3.22-bioc\R\bin\R.exe CMD INSTALL --build --library=rRDP.buildbin-libdir rRDP_1.43.0.tar.gz StartedAt: 2025-08-15 11:11:00 -0400 (Fri, 15 Aug 2025) EndedAt: 2025-08-15 11:11:17 -0400 (Fri, 15 Aug 2025) EllapsedTime: 17.0 seconds RetCode: 0 Status: OK PackageFile: rRDP_1.43.0.zip PackageFileSize: 2.628 MiB