Package: rRDP Version: 1.43.0 Command: rm -rf rRDP.buildbin-libdir && mkdir rRDP.buildbin-libdir && /Users/biocbuild/BBS/utils/build-universal.sh rRDP_1.43.0.tar.gz /Library/Frameworks/R.framework/Resources/bin/R rRDP.buildbin-libdir StartedAt: 2025-10-03 22:53:42 -0400 (Fri, 03 Oct 2025) EndedAt: 2025-10-03 22:53:47 -0400 (Fri, 03 Oct 2025) EllapsedTime: 5.1 seconds RetCode: 0 Status: OK PackageFile: rRDP_1.43.0.tgz PackageFileSize: 2.631 MiB