Package: rGenomeTracks Version: 1.15.0 Command: chmod a+r rGenomeTracks -R && F:\biocbuild\bbs-3.22-bioc\R\bin\R.exe CMD build --keep-empty-dirs --no-resave-data rGenomeTracks StartedAt: 2025-08-14 22:44:55 -0400 (Thu, 14 Aug 2025) EndedAt: 2025-08-14 22:45:20 -0400 (Thu, 14 Aug 2025) EllapsedTime: 24.9 seconds RetCode: 0 Status: OK PackageFile: rGenomeTracks_1.15.0.tar.gz PackageFileSize: 3.341 MiB