Package: rGenomeTracks Version: 1.15.0 Command: rm -rf rGenomeTracks.buildbin-libdir && mkdir rGenomeTracks.buildbin-libdir && F:\biocbuild\bbs-3.22-bioc\R\bin\R.exe CMD INSTALL --build --library=rGenomeTracks.buildbin-libdir rGenomeTracks_1.15.0.tar.gz StartedAt: 2025-08-15 11:07:11 -0400 (Fri, 15 Aug 2025) EndedAt: 2025-08-15 11:07:44 -0400 (Fri, 15 Aug 2025) EllapsedTime: 32.9 seconds RetCode: 0 Status: OK PackageFile: rGenomeTracks_1.15.0.zip PackageFileSize: 3.403 MiB