Package: rGREAT Version: 2.11.0 Command: /home/biocbuild/R/R/bin/R CMD INSTALL rGREAT StartedAt: 2025-10-16 22:25:14 -0000 (Thu, 16 Oct 2025) EndedAt: 2025-10-16 22:26:17 -0000 (Thu, 16 Oct 2025) EllapsedTime: 62.8 seconds RetCode: 0 Status: OK