Package: rGREAT Version: 2.11.0 Command: /home/biocbuild/R/R/bin/R CMD check --install=check:rGREAT.install-out.txt --library=/home/biocbuild/R/R/site-library --no-vignettes --timings rGREAT_2.11.0.tar.gz StartedAt: 2025-10-17 12:47:38 -0000 (Fri, 17 Oct 2025) EndedAt: 2025-10-17 12:53:55 -0000 (Fri, 17 Oct 2025) EllapsedTime: 376.6 seconds RetCode: 0 Status: OK CheckDir: rGREAT.Rcheck Warnings: 0