Package: rGREAT Version: 2.11.0 Command: /home/biocbuild/R/R/bin/R CMD build --keep-empty-dirs --no-resave-data rGREAT StartedAt: 2025-10-17 03:58:14 -0000 (Fri, 17 Oct 2025) EndedAt: 2025-10-17 03:59:18 -0000 (Fri, 17 Oct 2025) EllapsedTime: 64.0 seconds RetCode: 0 Status: OK PackageFile: rGREAT_2.11.0.tar.gz PackageFileSize: 2.754 MiB