Package: rGADEM Version: 2.57.1 Command: /Library/Frameworks/R.framework/Resources/bin/R CMD INSTALL rGADEM StartedAt: 2025-10-17 15:30:53 -0400 (Fri, 17 Oct 2025) EndedAt: 2025-10-17 15:31:59 -0400 (Fri, 17 Oct 2025) EllapsedTime: 66.0 seconds RetCode: 0 Status: OK