Package: rGADEM Version: 2.57.1 Command: /Library/Frameworks/R.framework/Resources/bin/R CMD check --install=check:rGADEM.install-out.txt --library=/Library/Frameworks/R.framework/Resources/library --no-vignettes --timings rGADEM_2.57.1.tar.gz StartedAt: 2025-10-18 00:55:59 -0400 (Sat, 18 Oct 2025) EndedAt: 2025-10-18 01:00:17 -0400 (Sat, 18 Oct 2025) EllapsedTime: 258.3 seconds RetCode: 0 Status: WARNINGS CheckDir: rGADEM.Rcheck Warnings: 1