Package: rGADEM Version: 2.57.1 Command: rm -rf rGADEM.buildbin-libdir && mkdir rGADEM.buildbin-libdir && /Users/biocbuild/BBS/utils/build-universal.sh rGADEM_2.57.1.tar.gz /Library/Frameworks/R.framework/Resources/bin/R rGADEM.buildbin-libdir StartedAt: 2025-10-17 04:09:31 -0400 (Fri, 17 Oct 2025) EndedAt: 2025-10-17 04:10:56 -0400 (Fri, 17 Oct 2025) EllapsedTime: 85.7 seconds RetCode: 0 Status: OK PackageFile: rGADEM_2.57.1.tgz PackageFileSize: 689.2 KiB