Package: rCGH Version: 1.39.1 Command: /Library/Frameworks/R.framework/Resources/bin/R CMD INSTALL rCGH StartedAt: 2025-09-30 15:50:58 -0400 (Tue, 30 Sep 2025) EndedAt: 2025-09-30 15:51:48 -0400 (Tue, 30 Sep 2025) EllapsedTime: 50.5 seconds RetCode: 0 Status: OK