Package: rCGH Version: 1.40.0 Command: rm -rf rCGH.buildbin-libdir && mkdir rCGH.buildbin-libdir && /Users/biocbuild/BBS/utils/build-universal.sh rCGH_1.40.0.tar.gz /Library/Frameworks/R.framework/Resources/bin/R rCGH.buildbin-libdir StartedAt: 2025-11-10 23:32:43 -0500 (Mon, 10 Nov 2025) EndedAt: 2025-11-10 23:33:02 -0500 (Mon, 10 Nov 2025) EllapsedTime: 19.4 seconds RetCode: 0 Status: OK PackageFile: rCGH_1.40.0.tgz PackageFileSize: 4.892 MiB