Package: rBLAST Version: 1.5.0 Command: /Library/Frameworks/R.framework/Resources/bin/R CMD build --keep-empty-dirs --no-resave-data rBLAST StartedAt: 2025-10-17 17:28:49 -0400 (Fri, 17 Oct 2025) EndedAt: 2025-10-17 17:28:55 -0400 (Fri, 17 Oct 2025) EllapsedTime: 6.1 seconds RetCode: 0 Status: OK PackageFile: rBLAST_1.5.0.tar.gz PackageFileSize: 24.64 KiB