Package: rBLAST Version: 1.5.0 Command: rm -rf rBLAST.buildbin-libdir && mkdir rBLAST.buildbin-libdir && /Users/biocbuild/BBS/utils/build-universal.sh rBLAST_1.5.0.tar.gz /Library/Frameworks/R.framework/Resources/bin/R rBLAST.buildbin-libdir StartedAt: 2025-10-16 23:13:40 -0400 (Thu, 16 Oct 2025) EndedAt: 2025-10-16 23:13:44 -0400 (Thu, 16 Oct 2025) EllapsedTime: 4.1 seconds RetCode: 0 Status: OK PackageFile: rBLAST_1.5.0.tgz PackageFileSize: 49.42 KiB