Package: r3Cseq Version: 1.55.1 Command: /home/biocbuild/bbs-3.22-bioc/R/bin/R CMD check --install=check:r3Cseq.install-out.txt --library=/home/biocbuild/bbs-3.22-bioc/R/site-library --timings r3Cseq_1.55.1.tar.gz StartedAt: 2025-10-20 03:40:28 -0400 (Mon, 20 Oct 2025) EndedAt: 2025-10-20 03:46:05 -0400 (Mon, 20 Oct 2025) EllapsedTime: 337.5 seconds RetCode: 0 Status: OK CheckDir: r3Cseq.Rcheck Warnings: 0