Package: qusage Version: 2.43.0 Command: /home/biocbuild/R/R/bin/R CMD check --install=check:qusage.install-out.txt --library=/home/biocbuild/R/R/site-library --no-vignettes --timings qusage_2.43.0.tar.gz StartedAt: 2025-09-30 11:47:47 -0000 (Tue, 30 Sep 2025) EndedAt: 2025-09-30 11:50:05 -0000 (Tue, 30 Sep 2025) EllapsedTime: 138.2 seconds RetCode: 0 Status: OK CheckDir: qusage.Rcheck Warnings: 0