Package: qusage Version: 2.43.0 Command: chmod a+r qusage -R && F:\biocbuild\bbs-3.22-bioc\R\bin\R.exe CMD build --keep-empty-dirs --no-resave-data qusage StartedAt: 2025-08-14 22:33:52 -0400 (Thu, 14 Aug 2025) EndedAt: 2025-08-14 22:41:18 -0400 (Thu, 14 Aug 2025) EllapsedTime: 446.6 seconds RetCode: 0 Status: OK PackageFile: qusage_2.43.0.tar.gz PackageFileSize: 9.498 MiB