Package: qusage Version: 2.43.0 Command: rm -rf qusage.buildbin-libdir && mkdir qusage.buildbin-libdir && F:\biocbuild\bbs-3.22-bioc\R\bin\R.exe CMD INSTALL --build --library=qusage.buildbin-libdir qusage_2.43.0.tar.gz StartedAt: 2025-08-15 11:02:21 -0400 (Fri, 15 Aug 2025) EndedAt: 2025-08-15 11:03:05 -0400 (Fri, 15 Aug 2025) EllapsedTime: 44.2 seconds RetCode: 0 Status: OK PackageFile: qusage_2.43.0.zip PackageFileSize: 9.662 MiB