Package: qusage Version: 2.43.0 Command: /home/biocbuild/bbs-3.22-bioc/R/bin/R CMD build --keep-empty-dirs --no-resave-data --md5 qusage StartedAt: 2025-10-01 19:50:03 -0400 (Wed, 01 Oct 2025) EndedAt: 2025-10-01 19:54:50 -0400 (Wed, 01 Oct 2025) EllapsedTime: 287.2 seconds RetCode: 0 Status: OK PackageFile: qusage_2.43.0.tar.gz PackageFileSize: 9.649 MiB