Package: qusage Version: 2.43.0 Command: /Library/Frameworks/R.framework/Resources/bin/R CMD INSTALL qusage StartedAt: 2025-10-19 15:06:46 -0400 (Sun, 19 Oct 2025) EndedAt: 2025-10-19 15:06:50 -0400 (Sun, 19 Oct 2025) EllapsedTime: 3.3 seconds RetCode: 0 Status: OK