Package: qusage Version: 2.43.0 Command: /Library/Frameworks/R.framework/Resources/bin/R CMD build --keep-empty-dirs --no-resave-data qusage StartedAt: 2025-10-20 17:24:12 -0400 (Mon, 20 Oct 2025) EndedAt: 2025-10-20 17:26:49 -0400 (Mon, 20 Oct 2025) EllapsedTime: 156.8 seconds RetCode: 0 Status: OK PackageFile: qusage_2.43.0.tar.gz PackageFileSize: 9.67 MiB